BEGIN:VCALENDAR
VERSION:2.0
CALSCALE:GREGORIAN
PRODID:-//MyApp//Calendar 1.0//EN
BEGIN:VEVENT
METHOD:PUBLISH
UID:55456@regionalniportaly.cz
DTSTAMP:20260424T211734Z
DTSTART;VALUE=DATE:20250711
DTEND;VALUE=DATE:20250712
SUMMARY:BIG GILSON | ANDĚL MUSIC BAR
DESCRIPTION:Žhavý Brazilec\, kytarista Big Gilson – se k nám po 6ti letech vrací přímo z Rio de Janeira se svým bluesovým triem!Gilson vydal čtrnáct CD. Během posledních třiceti let hrál v Jižní a Severní Americe\, v Evropě\, a mj. také jako předskokan Steva Winwooda na jeho brazilském turné či dvakrát mistrovi B.B. Kingovi. Kromě vystupování na bluesových festivalech po celém světě hrál také koncerty na tak skvělých místech\, jako je např. Blue Note\, NY (pětkrát)\, Bamboo Room\, FL (třikrát) atd.Big Gilson je umělcem TopCat Records USA má podporu od Marshall Amps. Nyní jede po celém turné a vydává své nové album LOUD’N PROUD.
LOCATION:Plzeň
END:VEVENT
END:VCALENDAR