BEGIN:VCALENDAR
VERSION:2.0
CALSCALE:GREGORIAN
PRODID:-//MyApp//Calendar 1.0//EN
BEGIN:VEVENT
METHOD:PUBLISH
UID:55336@regionalniportaly.cz
DTSTAMP:20260424T235900Z
DTSTART;VALUE=DATE:20251108
DTEND;VALUE=DATE:20251109
SUMMARY:Pestalozzi | Anděl Music Bar
DESCRIPTION:IKONICKÁ KAPELA&nbsp\; PESTALOZZI OPĚT NA SCÉNĚ!Přijď si užít večer plný energie\, nespoutané hudby a punk-popových pecek!Kdy :&nbsp\; 8. listopadu 2025Kde :&nbsp\; Anděl music bar PlzeňNa pódiu se představí ikonická švýcarsko-česká punk-popová formace\, která za sebou nechává vzpomínky na nespoutané večery\, nekompromisní texty a nezaměnitelný zvuk.Sleduj kapelu a nalaď se už teď:https://www.facebook.com/pestalozziczNepropásni tuhle jízdu! Přijď s přáteli a zažij koncert\, na který se jen tak nezapomíná!
LOCATION:Plzeň
END:VEVENT
END:VCALENDAR