BEGIN:VCALENDAR
VERSION:2.0
CALSCALE:GREGORIAN
PRODID:-//MyApp//Calendar 1.0//EN
BEGIN:VEVENT
METHOD:PUBLISH
UID:54966@regionalniportaly.cz
DTSTAMP:20260424T213748Z
DTSTART;VALUE=DATE:20251009
DTEND;VALUE=DATE:20251010
SUMMARY:Jsme Zločinožrouti Tour II. - Plzeň
DESCRIPTION:Připrav se na večer plný true crime příběhů a černého humoru. V řijnu a listopadu 2025 jedeme na podzimní tour.
LOCATION:Plzeň
END:VEVENT
END:VCALENDAR