BEGIN:VCALENDAR
VERSION:2.0
CALSCALE:GREGORIAN
PRODID:-//MyApp//Calendar 1.0//EN
BEGIN:VEVENT
METHOD:PUBLISH
UID:54821@regionalniportaly.cz
DTSTAMP:20260424T185302Z
DTSTART;VALUE=DATE:20250529
DTEND;VALUE=DATE:20250530
SUMMARY:Adam Bomb | Anděl Music Bar
DESCRIPTION:Adam Bomb je americký kytarista\, zpěvák a skladatel.Vynikající kytarista s vlastním stylem\, který si už zahrál s kdekým\, od Kiss přes Chucka Berryho až třeba po John Paul Jonese. Chlapík\, který by mohl vstoupit do kterékoli slavné formace\, ale přesto radši dál křižuje dodávkou Evropu\, aby vymetl kdejaký zapadlý klub. Miluje svobodu a tu má jen\, když je sám za sebe. S železnou pravidelností absolvuje 200 – 250 zastávek ročně se svou živelnou show\, plnou ohně a zatěžkaných riffů. Nezmar na cestě časem
LOCATION:Plzeň
END:VEVENT
END:VCALENDAR