BEGIN:VCALENDAR
VERSION:2.0
CALSCALE:GREGORIAN
PRODID:-//MyApp//Calendar 1.0//EN
BEGIN:VEVENT
METHOD:PUBLISH
UID:54378@regionalniportaly.cz
DTSTAMP:20260424T174731Z
DTSTART;VALUE=DATE:20250606
DTEND;VALUE=DATE:20250607
SUMMARY:Bryan Adams Tribute | Anděl Music Bar
DESCRIPTION:BRYAN ADAMS TRIBUTESkvělá maďarská kapela s největšími hity Bryana Adamse.
LOCATION:Plzeň
END:VEVENT
END:VCALENDAR