BEGIN:VCALENDAR
VERSION:2.0
CALSCALE:GREGORIAN
PRODID:-//MyApp//Calendar 1.0//EN
BEGIN:VEVENT
METHOD:PUBLISH
UID:54377@regionalniportaly.cz
DTSTAMP:20260424T185544Z
DTSTART;VALUE=DATE:20250620
DTEND;VALUE=DATE:20250621
SUMMARY:Big Man James | Anděl Music Bar
DESCRIPTION:Finalista Italian Blues Challenge - kapela Big Man James zavítá do České republiky v červnu 2025 v rámci svého evropského turné. Tato charismatická formace je známá pro svou směs blues\, soul a funky a má za sebou řadu úspěchů na významných hudebních festivalech i jako předskokan mezinárodně uznávaných hvězd.
LOCATION:Plzeň
END:VEVENT
END:VCALENDAR