BEGIN:VCALENDAR
VERSION:2.0
CALSCALE:GREGORIAN
PRODID:-//MyApp//Calendar 1.0//EN
BEGIN:VEVENT
METHOD:PUBLISH
UID:53937@regionalniportaly.cz
DTSTAMP:20260424T224235Z
DTSTART;VALUE=DATE:20250530
DTEND;VALUE=DATE:20250531
SUMMARY:BOSSANOHA | Anděl Music Bar
DESCRIPTION:Český autoský Groove&amp\;Soul. To je kapela BOSSANOHA.Kapela složená z fanoušků old-school zvuků a trapného humoru. Autorskou tvorbu kapely poznáte díky spojení groovu\, neotřelých harmonií\, melodických linek a nezapamatovatelného textu. Energetická smršť\, silné emoce a parádní atmosféra\, to zažijete\, když přijdete na koncert BOSSANOHY.Frontman Jára Panuška\, pianist &amp\; composer Jonáš Baierl\, bicman "Šíša" a bassman Lukáš Hamák. To je současné obsazení\, které obohacujeme o dechové hosty.
LOCATION:Plzeň
END:VEVENT
END:VCALENDAR