BEGIN:VCALENDAR
VERSION:2.0
CALSCALE:GREGORIAN
PRODID:-//MyApp//Calendar 1.0//EN
BEGIN:VEVENT
METHOD:PUBLISH
UID:53807@regionalniportaly.cz
DTSTAMP:20260424T185554Z
DTSTART;VALUE=DATE:20250517
DTEND;VALUE=DATE:20250518
SUMMARY:Tango | Anděl Music Bar
DESCRIPTION:TANGO TOUR 2025 - 40 let Elektrického báluLegendární rocková formace Tango založená v roce 1984 pokračuje ve své show podpořené světelnými i pyrotechnickými efekty.Koncerty Tanga tvoří osvědčené hitovky z minulého století ( Jdeme do hor\, Co s tím sklem\, Na šikmý ploše\, Pomalá.... ) a také skladby kapely Abraxas ( Karel drogy nebere\, Nekonečný boogie\, Poprvé\, Pokaždé je to jinak.... )
LOCATION:Plzeň
END:VEVENT
END:VCALENDAR