BEGIN:VCALENDAR
VERSION:2.0
CALSCALE:GREGORIAN
PRODID:-//MyApp//Calendar 1.0//EN
BEGIN:VEVENT
METHOD:PUBLISH
UID:53767@regionalniportaly.cz
DTSTAMP:20260425T023235Z
DTSTART;VALUE=DATE:20250930
DTEND;VALUE=DATE:20251001
SUMMARY:MAOK - Cestou necestou
DESCRIPTION:Cestou necestou s MaokemTentokrát jsme pro vás připravili výjimečný zážitek Maokovy magické hudby v nádherném a historicky významném prostředí Staré synagogy v Plzni.Zažijete večer\, kdy se historie\, umění a duše setkávají v harmonické symfonii\, v jediném okamžiku\, který si budete chtít uchovat.Stará synagoga je místo&nbsp\;plné ducha a elegance a&nbsp\;je ideálním prostorem\, kde tóny osloví vaši duši a vytvoří jedinečné spojení hudby\, emocí a historie.
LOCATION:Plzeň
END:VEVENT
END:VCALENDAR