BEGIN:VCALENDAR
VERSION:2.0
CALSCALE:GREGORIAN
PRODID:-//MyApp//Calendar 1.0//EN
BEGIN:VEVENT
METHOD:PUBLISH
UID:52780@regionalniportaly.cz
DTSTAMP:20260424T180053Z
DTSTART;VALUE=DATE:20251216
DTEND;VALUE=DATE:20251217
SUMMARY:Vánoce Osmanyho Laffity
DESCRIPTION:Originální zábavný pořad populárního módního návrháře kubánského původu Osmanyho Laffity ve vánočním speciálu plném nekorektního humoru.Jak vypadají u Osmanyho vánoce a vstup do nového roku?Neuvěřitelné historky\, které psal sám život!&nbsp\;Moderuje: Eva DECASTELOÚčinkuje: Osmany LAFFITA&nbsp\;Délka představení 90 až 120 minut (obvykle + přestávka)&nbsp\;Představení nedoporučujeme divákům mladším 15 let.
LOCATION:Plzeň
END:VEVENT
END:VCALENDAR