BEGIN:VCALENDAR
VERSION:2.0
CALSCALE:GREGORIAN
PRODID:-//MyApp//Calendar 1.0//EN
BEGIN:VEVENT
METHOD:PUBLISH
UID:52415@regionalniportaly.cz
DTSTAMP:20260422T074104Z
DTSTART;VALUE=DATE:20250829
DTEND;VALUE=DATE:20250830
SUMMARY:Na zámku se Zlatou Adamovskou a Petrem Štěpánkem
DESCRIPTION:Nenechte si ujít exkluzivní setkání hereckého páru Zlaty Adamovské a Petra Štěpánka na romantickém zámku Kozel. Přijďte si poslechnout jejich společné i individuální historky ze světa filmu\, divadla a života. Večer plný humoru\, vzpomínek a příjemné atmosféry ve společnosti dvou skvělých herců.
LOCATION:Šťáhlavy
END:VEVENT
END:VCALENDAR