BEGIN:VCALENDAR
VERSION:2.0
CALSCALE:GREGORIAN
PRODID:-//MyApp//Calendar 1.0//EN
BEGIN:VEVENT
METHOD:PUBLISH
UID:52414@regionalniportaly.cz
DTSTAMP:20260422T102408Z
DTSTART;VALUE=DATE:20250728
DTEND;VALUE=DATE:20250729
SUMMARY:Na zámku s Ondřejem Vetchým
DESCRIPTION:Nenechte si ujít jedinečný večer s oblíbeným hercem Ondřejem Vetchým na malebném zámku Kozel. Těšte se na neformální povídání plné historek ze zákulisí\, vzpomínek na ikonické role a pohledu do života této výrazné osobnosti českého filmu a divadla.
LOCATION:Šťáhlavy
END:VEVENT
END:VCALENDAR