BEGIN:VCALENDAR
VERSION:2.0
CALSCALE:GREGORIAN
PRODID:-//MyApp//Calendar 1.0//EN
BEGIN:VEVENT
METHOD:PUBLISH
UID:52405@regionalniportaly.cz
DTSTAMP:20260424T211603Z
DTSTART;VALUE=DATE:20251103
DTEND;VALUE=DATE:20251104
SUMMARY:Galakoncert Dalibora Jandy  | Plzeň
DESCRIPTION:Dalibor Janda míří do Plzně!&nbsp\;Nestárnoucí legenda české hudební scény a autor největších hitů jako Hurikán\, Žít jako kaskadér\, Kde jsi nebo Oheň\, voda\, vítr oslaví letos 45 let na profi scéně! Přijďte zažít neopakovatelnou atmosféru\, jedinečný zvuk a světelnou show.Zpěvák s typicky "chraplavým" hlasem během své kariéry odehrál více než 4000 koncertů. Přijeďte do Plzně a zúčastněte se na jednom z nich v krásných prostorách Parkhotelu Plzeň!&nbsp\;
LOCATION:Plzeň
END:VEVENT
END:VCALENDAR