BEGIN:VCALENDAR
VERSION:2.0
CALSCALE:GREGORIAN
PRODID:-//MyApp//Calendar 1.0//EN
BEGIN:VEVENT
METHOD:PUBLISH
UID:52347@regionalniportaly.cz
DTSTAMP:20260424T223518Z
DTSTART;VALUE=DATE:20250412
DTEND;VALUE=DATE:20250413
SUMMARY:X-Cover  Koncert
DESCRIPTION:Přátelé\, než se vrhneme ven na open air akce\, je ta nejlepší poslední možnost si dát s námi tu jedinečnou atmosféru klubového koncertu okořeněnou novými songy.Těšíme se na vás\, pojďme si připomenout tu správnou atmosféru plzeňské Buena Visty!Open door: 19:30start: 21:00afterpartyvstup: 300 Kč na místě
LOCATION:Plzeň
END:VEVENT
END:VCALENDAR