BEGIN:VCALENDAR
VERSION:2.0
CALSCALE:GREGORIAN
PRODID:-//MyApp//Calendar 1.0//EN
BEGIN:VEVENT
METHOD:PUBLISH
UID:52282@regionalniportaly.cz
DTSTAMP:20260424T190655Z
DTSTART;VALUE=DATE:20250503
DTEND;VALUE=DATE:20250504
SUMMARY:Motorband | Anděl Music Bar
DESCRIPTION:MOTORBAND je česká heavy metalová kapela\, založená v roce 1986 ve městě Teplice. Je považována za jednu z průkopnických skupin na české metalové scéně. Její hudba je silně ovlivněna klasickým heavy metalem a hard rockem. Motorband se dostal do širšího povědomí zejména v 80. a 90. letech\, kdy vydal své první alba\, například debut "Made in Germany" z roku 1990.Kapela prošla několika změnami v sestavě\, včetně známých českých hudebníků\, jako například Kamil Střihavka\, který byl jedním z prvních zpěváků Motorbandu a později se stal jednou z nejvýraznějších postav české rockové scény. Navzdory častým změnám v sestavě Motorband pokračuje v koncertování a nahrávání\, přičemž jejich hudba zůstává věrná klasickému metalovému stylu.Motorband si získal své fanoušky díky energickým vystoupením a charakteristickému zvuku\, a dodnes patří mezi významné kapely na české rockové a metalové scéně.
LOCATION:Plzeň
END:VEVENT
END:VCALENDAR