BEGIN:VCALENDAR
VERSION:2.0
CALSCALE:GREGORIAN
PRODID:-//MyApp//Calendar 1.0//EN
BEGIN:VEVENT
METHOD:PUBLISH
UID:52277@regionalniportaly.cz
DTSTAMP:20260424T174635Z
DTSTART;VALUE=DATE:20250502
DTEND;VALUE=DATE:20250503
SUMMARY:Gwyn Ashton | Anděl Music Bar
DESCRIPTION:Světoběžník Gwyn Ashton kombinuje ve svém blues mnoho různorodých vlivů. Sám v titulu jedné ze svých nejsilnějších skladeb říká: „Cesta je mé náboženství\,“ což u muzikanta\, který se narodil ve Walesu\, ale podstatnou část života prožil v Austrálii\, aby nakonec – či alespoň na nějaký čas – zakotvil v Londýně\, není vlastně překvapivé.Gwyn Ashton je technicky mimořádně disponovaným hráčem\, který střídá různé typy kytar i různé hráčské styly. Na koncertě kromě nejlepších skladeb legendárních bluesmanů zařadil i své vlastní\, neméně sugestivní písně\, v nichž komentuje svět kolem sebe. Chraplavý hlas\, rockové cítění a neutuchající energie jsou tou nejlepší pozvánkou !
LOCATION:Plzeň
END:VEVENT
END:VCALENDAR