BEGIN:VCALENDAR
VERSION:2.0
CALSCALE:GREGORIAN
PRODID:-//MyApp//Calendar 1.0//EN
BEGIN:VEVENT
METHOD:PUBLISH
UID:52185@regionalniportaly.cz
DTSTAMP:20260424T224612Z
DTSTART;VALUE=DATE:20250411
DTEND;VALUE=DATE:20250412
SUMMARY:Majk Spirit | Anděl Music Bar
DESCRIPTION:MAJK SPIRIT V ANDĚLU&nbsp\;Legendárního slovenského rappera MAJKA SPIRITA není potřeba moc představovat.Nyní zavítá k nám do Anděl music baru.Přijďte si užít jeho show.
LOCATION:Plzeň
END:VEVENT
END:VCALENDAR