BEGIN:VCALENDAR
VERSION:2.0
CALSCALE:GREGORIAN
PRODID:-//MyApp//Calendar 1.0//EN
BEGIN:VEVENT
METHOD:PUBLISH
UID:51837@regionalniportaly.cz
DTSTAMP:20260424T225100Z
DTSTART;VALUE=DATE:20250417
DTEND;VALUE=DATE:20250418
SUMMARY:Vystoupení zpěvačky Heather s kapelou
DESCRIPTION:Koncertní show v rámci představení debutového alba Heather's World.Prodej vstupenek na místě: 250 KčWebové stránky zpěvačky Heather: Front Page -&nbsp\;www.heathersworld.artYouTube kanál:&nbsp\;https://www.youtube.com/@iamheather_official„Schovám své oči za černý pruh. Je pro mě brněním a ochranou před okolní realitou. Tam za ním jsem ukrytá a nepolapitelná pro všechnu špatnost světa. Žiju jako Heather. Myslím jako Heather. Sním jako Heather. Jsem Heather!“
LOCATION:Plzeň
END:VEVENT
END:VCALENDAR