BEGIN:VCALENDAR
VERSION:2.0
CALSCALE:GREGORIAN
PRODID:-//MyApp//Calendar 1.0//EN
BEGIN:VEVENT
METHOD:PUBLISH
UID:51665@regionalniportaly.cz
DTSTAMP:20260424T211628Z
DTSTART;VALUE=DATE:20250412
DTEND;VALUE=DATE:20250413
SUMMARY:Lazer Viking | The Stylists | Anděl Music Bar
DESCRIPTION:Lazer VikingLazer Viking je pražský umělec\, který je známý především svým upřímným stylem vyprávění a charakteristickým zvukem kombinujícím synth-pop\, dekonstruované italo-disco basy a proto-techno repetitivnost.¨Lazer Viking je opravdový žánrový chameleon\, který se usadil u písničkářství s úzkostlivou příchutí post-punku.Lazer Viking působí jako sólový umělec i jako plnohodnotná kapela.The StylistsDynamický electro pop s prvky disca a funku\, s pulzujícími syntezátory a úchvatným zpěvem. Jakoby se na jednom pódiu potkali Kraftwerk s Donnou Summer.The Stylists založili Moimir Papalescu (The Nihilists\, Magnetik\, Die alten Maschinen) skladatel\, hráč na klávesové nástroje a „specialista“ na syntezátory\, dále pak jsou s nimi na palubě multiinstrumentalista a hráč na dechové nástroje\, vynikající jazzman Petr Venkrbec (The Nihilists\, Mr. Lovo\; dříve také Vltava\, Psí vojáci\, Krausberry) a bubeník Miki P. (JAF34\, Papalescu2). Věrni svému názvu The Stylists přinášejí na pódia nadupanou taneční hudbu. Je to jízda\, kdy odhodíte všechny chmury a zábrany a budete se skvěle bavit.
LOCATION:Plzeň
END:VEVENT
END:VCALENDAR