BEGIN:VCALENDAR
VERSION:2.0
CALSCALE:GREGORIAN
PRODID:-//MyApp//Calendar 1.0//EN
BEGIN:VEVENT
METHOD:PUBLISH
UID:51661@regionalniportaly.cz
DTSTAMP:20260424T190637Z
DTSTART;VALUE=DATE:20250430
DTEND;VALUE=DATE:20250501
SUMMARY:Lovataraxx | Anděl Music Bar
DESCRIPTION:Kapela Lovataraxx byla založena z ničeho nic v roce 2013\, při překročování mostu Williamsburg o jarních prázdninách. Zírajíc na šedivo-růžové pruhy\, které dělaly strukturu mostu\, zrozený duet se rozhodl vypořádat s horskou dráhou emocí formou muziky a textů. Lovataraxx zkoumá hloubky žánrů minimal wave\, dark electronics a post-punku. Na pódiu jsou oba muzikanti obklopeni korodujícími synťáky\, ostrými mini bicími atd.Sedíc obkročmo mezi vlivy 80 a 90 let\, estetika Lovataraxxu je pěstována řeckou mytologií\, sci-fi ve stylu K. Dickových novel a romantické poezie. Carpenterovi podobné melodie: vše to zní tak nějak cize a známě zároveň. Vše se to točí kolem klamných pocitů slepých\, dobře probíhajících dnů a dlouhých zoufalství ztracené generace
LOCATION:Plzeň
END:VEVENT
END:VCALENDAR