BEGIN:VCALENDAR
VERSION:2.0
CALSCALE:GREGORIAN
PRODID:-//MyApp//Calendar 1.0//EN
BEGIN:VEVENT
METHOD:PUBLISH
UID:51660@regionalniportaly.cz
DTSTAMP:20260424T174645Z
DTSTART;VALUE=DATE:20250426
DTEND;VALUE=DATE:20250427
SUMMARY:James Harries Band | Anděl Music Bar
DESCRIPTION:PÍŠÍ O NĚM SVĚTOVÉ MAGAZÍNY\, V ČECHÁCH JEHO HITY HRAJÍ RÁDIA NAPŘÍČ ŽÁNRY\, MÁ MILIONY PŘEHRÁNÍ NA SPOTIFY!James Harries je britský hudebník\, který se těší popularitě po celém světě.Americký magazín Rolling Stone ho označil jako zlatý hlas a fanoušci si ho oblíbili díky jeho bezprostřednosti.S novým albem HIRAETH sklidil úspěch v Evropě i v Čechách a vyráží sólově i s kapelou na česká pódia!
LOCATION:Plzeň
END:VEVENT
END:VCALENDAR