BEGIN:VCALENDAR
VERSION:2.0
CALSCALE:GREGORIAN
PRODID:-//MyApp//Calendar 1.0//EN
BEGIN:VEVENT
METHOD:PUBLISH
UID:51659@regionalniportaly.cz
DTSTAMP:20260424T134816Z
DTSTART;VALUE=DATE:20250425
DTEND;VALUE=DATE:20250426
SUMMARY:Vojtaano v Andělu | Anděl Music Bar
DESCRIPTION:Pod pseudonymem Vojtaano se skrývá herec\, komik a také hudebník Vojtěch Záveský\, který ve své tvorbě sází hlavně na ostrý jazyk bez zábran a na svůj osobitý humor.Možná si ho vybavíte i z některých televizních seriálů. Hudbu složil třeba k seriálu z fotbalového prostředí Vyšehrad. Jeho peprné texty a svérazný humor Vás určitě pobaví\, dorazte se přesvědčit sami!
LOCATION:Plzeň
END:VEVENT
END:VCALENDAR