BEGIN:VCALENDAR
VERSION:2.0
CALSCALE:GREGORIAN
PRODID:-//MyApp//Calendar 1.0//EN
BEGIN:VEVENT
METHOD:PUBLISH
UID:51651@regionalniportaly.cz
DTSTAMP:20260424T162720Z
DTSTART;VALUE=DATE:20250403
DTEND;VALUE=DATE:20250404
SUMMARY:Neil Zaza | Anděl Music Bar
DESCRIPTION:NEIL ZAZA BAND (USA)Klubový koncert vynikajícího kytaristy s vlastní kapelou je příslibem nevšedního zážitku setkat se s brilantní kytarovou technikou z bezprostřední blízkosti.Neil Zaza je vysoce uznávaný americký melodický kytarista\, známý zejména svou speciální technikou\, stejně jako kombinováním klasických a moderních kytarových prvků.Kromě svých vlastních koncertů je často vyhledávaným koncertním spoluhráčem světových mistrů jako Steve Vai\, Joe Satriani\, Yngwie Malmsteen\, Vinnie Moor či Dweezel Zappa\, u nějž je také často uveden jako autor nebo spolupracuje při nahrávání. Naopak na jeho sólových albech můžete slyšet například Michaela Anthonyho (ex-Van Halen)\, Steve Smitha a Rosse Valoryho z Journey\, nebo klávesistu kapely Dream Theater Jordana Rudesse.Metalová část rockové veřejnosti si ho také pamatuje jako člena skupiny Firehouse.Neil Zaza je navíc znám jako velký pohodář a pohodovou atmosféru přenáší i na své publikum.
LOCATION:Plzeň
END:VEVENT
END:VCALENDAR