BEGIN:VCALENDAR
VERSION:2.0
CALSCALE:GREGORIAN
PRODID:-//MyApp//Calendar 1.0//EN
BEGIN:VEVENT
METHOD:PUBLISH
UID:51649@regionalniportaly.cz
DTSTAMP:20260424T174300Z
DTSTART;VALUE=DATE:20250418
DTEND;VALUE=DATE:20250419
SUMMARY:Dunaj křest alba - Anděl Music Bar
DESCRIPTION:Nový přítok Dunaje v osobě zpěvačky Jany Vébrové přináší do kapely svěží proud energie. Takto posílený Dunaj si dál teče\, kudy chce\, a přitom neustále nachází nové cesty\, spojující minulost se současností. Tři roky od minulého alba („Za vodou“\, 2022) vydává v dubnu 2025 Dunaj s Janou Vébrovou novou desku s názvem „Mňau“ u vydavatelství Animal Music. Během roční spolupráce připravili nový repertoár\, který v Birdland Studios natočili s producentem Petrem Ostrouchovem.Přijďte s námi oslavit zrození nové desky a poslechnout si\, jak se starý Dunaj proměnil v nový živel\, který vás strhne s sebou.
LOCATION:Plzeň
END:VEVENT
END:VCALENDAR