BEGIN:VCALENDAR
VERSION:2.0
CALSCALE:GREGORIAN
PRODID:-//MyApp//Calendar 1.0//EN
BEGIN:VEVENT
METHOD:PUBLISH
UID:51617@regionalniportaly.cz
DTSTAMP:20260424T211658Z
DTSTART;VALUE=DATE:20250326
DTEND;VALUE=DATE:20250327
SUMMARY:Rolling Stones Tribute | Anděl Music Bar
DESCRIPTION:ROLLING STONES TRIBUTE (HU)Skvělá maďarská kapela s největšími hity The Rolling Stones!
LOCATION:Plzeň
END:VEVENT
END:VCALENDAR