BEGIN:VCALENDAR
VERSION:2.0
CALSCALE:GREGORIAN
PRODID:-//MyApp//Calendar 1.0//EN
BEGIN:VEVENT
METHOD:PUBLISH
UID:51587@regionalniportaly.cz
DTSTAMP:20260424T174625Z
DTSTART;VALUE=DATE:20250328
DTEND;VALUE=DATE:20250329
SUMMARY:Lord Bishop Rocks - Anděl Music Bar
DESCRIPTION:LORD BISHOP ROCKS„Jsem dost mladý\, abych rock´n´roll ještě mohl hrát a dost starý\, abych ho už uměl hrát!“ říká Lord Bishop\, záhadný a nenapodobitelný dvoumetrový kytarista z newyorského Bronxu. Profesionální kariéru zahájil s newyorskou funky rockovou kapelou Total Sexual Freedom\, po několika vydaných deskách a po pár letech se ale osamostatnil a začal koncertovat po celém světě jako sólista. Za uplynulých 15 let natočil 11 CD a ve 44 zemích odehrál více než 3000 koncertů. V roce 2010 byl hvězdou festivalu Colours of Ostrava\, jako host hrál na jednom pódiu s Living Colour\, Nazareth\, nebo s Edgarem a Johnny Winterem.V jeho rock´n´rollu je syrový rock\, taneční funky\, emotivní blues\, drzý punk a kouzla voodoo. Na jeho koncertech všichni tancujou a on svou kytaru drásá jako by Hendrix jel na Harleji. Lord Bishop je pódiu dravá šelma\, žádný skromný a hodný tichošlápek. Je jako Jimi Hendrix\, Lemmy a James Brown v jedné osobě. Na jeho muziku\, vzhled a energii návštěvníci koncertů jen tak nezapomínají!
LOCATION:Plzeň
END:VEVENT
END:VCALENDAR