BEGIN:VCALENDAR
VERSION:2.0
CALSCALE:GREGORIAN
PRODID:-//MyApp//Calendar 1.0//EN
BEGIN:VEVENT
METHOD:PUBLISH
UID:51360@regionalniportaly.cz
DTSTAMP:20260424T211954Z
DTSTART;VALUE=DATE:20251207
DTEND;VALUE=DATE:20251208
SUMMARY:Filmové a adventní melodie
DESCRIPTION:Pojďte si užít zbrusu nový program\, který v zajímavé dramaturgii kombinuje aranže adventní hudby s hudbou ze světoznámých filmů v úpravě pro Klárovo smyčcové kvarteto do vytápěné&nbsp\;Betlémské kapleKLÁROVO KVARTETO&nbsp\;&nbsp\;Pavel HRDA – I. housle\, Tom KLÁR – II. housle\, Libor KAŇKA – viola\, Václav FLEISSIG – violoncello&nbsp\;PROGRAM:A. CORELLI –&nbsp\;Concerto Grosso&nbsp\;(Allegro\, Pastorale)R. BINGE (Anglie): Alžbětínská serenádaA. VIVALDI – Zima&nbsp\;(Largo)&nbsp\;ze Čtvero ročních obdobíJ. F. WADE:&nbsp\;ADESTE FIDELESI. BERLIN:&nbsp\;White ChristmasF. CHURCHILL:&nbsp\;Sněhurka (I am wishing)J. STYNE:&nbsp\;Let it snowF. BERNARD:&nbsp\;Winter wonderlandtradiční koleda:&nbsp\;&nbsp\;RolničkyANGLICKÉ KOLEDY:Little Donkey - O little Town of Bethlehem - Ding\, dong\, merrily on Higha HUDBA Z&nbsp\;FILMŮ:SEDM STATEČNÝCH – TITANIC – MOST PŘES ŘEKU KWAIVINETTOU – FORREST GUMP – TENKRÁT NA ZÁPADĚBODYGUARD – PRETTY WOMAN – DR. ŽIVAGOJAMES BOND – MISSION IMPOSSIBLEdélka 65 minut\, změna programu vyhrazena&nbsp\;
LOCATION:Plzeň
END:VEVENT
END:VCALENDAR