BEGIN:VCALENDAR
VERSION:2.0
CALSCALE:GREGORIAN
PRODID:-//MyApp//Calendar 1.0//EN
BEGIN:VEVENT
METHOD:PUBLISH
UID:51351@regionalniportaly.cz
DTSTAMP:20260424T123106Z
DTSTART;VALUE=DATE:20250405
DTEND;VALUE=DATE:20250406
SUMMARY:Mario Šeparovič Band | Anděl Music Bar - Plzeň
DESCRIPTION:MARIO ŠEPAROVIČ BANDBlues-funkový muzikant Mario Šeparović (HR) vydal v záři již svou druhou autorskou desku s názvem „ON“\, první s názvem “Crosswalk”\, na které hostují Radek Pastrňák (Buty)\, Michal Žáček (Richard Müller\, B-side band\, Peter Lipa)\, Pavel Sotoniak (David Stypka &amp\; Bandjeez).Šeparovičův hlasový i herní projev vychází z blues\, funky\, rocku s kořeny v 70\, 80\, 90 letech.Původně vystudovaný čelista z Bělehradu je velmi zručným kytaristou a vynikajícím zpěvákem. Je obecně spíše znám jako coverový interpret E. Claptona a ostatních velikánů.
LOCATION:Plzeň
END:VEVENT
END:VCALENDAR