BEGIN:VCALENDAR
VERSION:2.0
CALSCALE:GREGORIAN
PRODID:-//MyApp//Calendar 1.0//EN
BEGIN:VEVENT
METHOD:PUBLISH
UID:51316@regionalniportaly.cz
DTSTAMP:20260424T123136Z
DTSTART;VALUE=DATE:20250404
DTEND;VALUE=DATE:20250405
SUMMARY:Žamboši v Andělu | Anděl Music Bar
DESCRIPTION:ŽAMBOŠISoučasná\, progresivně znějící\, akusticko-folkrocková skupina s přesahy do jiných žánrů. Její písně kladou důraz na text a emocionalitu při živých koncertních provedeních.Vydali pět řadových alb\, přičemž každé bylo nominováno na cenu Anděl České hudební akademie a třikrát se jim podařilo nominaci proměnit.Naposledy získali Anděla za album LOUVRE v roce 2019.Tak si přijďte užít jejich koncert u nás.
LOCATION:Plzeň
END:VEVENT
END:VCALENDAR