BEGIN:VCALENDAR
VERSION:2.0
CALSCALE:GREGORIAN
PRODID:-//MyApp//Calendar 1.0//EN
BEGIN:VEVENT
METHOD:PUBLISH
UID:51190@regionalniportaly.cz
DTSTAMP:20260424T162556Z
DTSTART;VALUE=DATE:20250321
DTEND;VALUE=DATE:20250322
SUMMARY:Cliff Stevens Trio - Eric Clapton tribute | Anděl  Music Bar
DESCRIPTION:CLIFF STEVENS (USA) - Celosvětově ceněný Eric Clapton Tribute Band (USA) v čele se slavným bluesovým kytaristou Cliffem Stevensem (USA). Zážitek z koncertů této skupiny je téměř k nerozeznání od originálu - Dvojník Erica Claptona !
LOCATION:Plzeň
END:VEVENT
END:VCALENDAR