BEGIN:VCALENDAR
VERSION:2.0
CALSCALE:GREGORIAN
PRODID:-//MyApp//Calendar 1.0//EN
BEGIN:VEVENT
METHOD:PUBLISH
UID:51183@regionalniportaly.cz
DTSTAMP:20260424T185321Z
DTSTART;VALUE=DATE:20250320
DTEND;VALUE=DATE:20250321
SUMMARY:Demian Dominquez | Anděl Music Bar
DESCRIPTION:DEMIAN DOMINGUEZ (ARG)Fenomenální argentinský kytarista Demian Dominguez\, patřící ke světové špičce bluesrocku sdílel jedno pódium s takovými veličinami\, jako J. Vaughanem\, Roy Rogersem\, E. Sardinasem\, J. Vargasem a mnoha dalšími.Obecně se má za to\, že jeho produkce patří k tomu nejlepšímu\, co lze na malých pódiích spatřit. Ti\, co viděli předcházející české zastávky Demian Bandu už vědí\, o čem je řeč.Tentokrát se můžete těšit na strhující výkon špičkového kytaristy a zpěváka se svojí vynikající one man show!Nové album a turné po Evropě bude sponzorovat JACK DANIEL'S - koncerty budou velmi silné\, s Mississippi a texaským blues\, jižanským rockovým zvukem a tím nejlepším z jeho repertoáru.
LOCATION:Plzeň
END:VEVENT
END:VCALENDAR