BEGIN:VCALENDAR
VERSION:2.0
CALSCALE:GREGORIAN
PRODID:-//MyApp//Calendar 1.0//EN
BEGIN:VEVENT
METHOD:PUBLISH
UID:51182@regionalniportaly.cz
DTSTAMP:20260424T162424Z
DTSTART;VALUE=DATE:20250318
DTEND;VALUE=DATE:20250319
SUMMARY:Shanna Waterstown | Anděl Music Bar
DESCRIPTION:SHANNA WATERSTOWN (USA)Rhytm &amp\; Blues zpěvačka s kapelou.Skutečná "Blues Woman" s úžasným hlasem - představující bluesovou\, jazzovou a soulovou hudbu na nejvyšší úrovni!Po úspěšném loňském turné znovu v Čr.
LOCATION:Plzeň
END:VEVENT
END:VCALENDAR