BEGIN:VCALENDAR
VERSION:2.0
CALSCALE:GREGORIAN
PRODID:-//MyApp//Calendar 1.0//EN
BEGIN:VEVENT
METHOD:PUBLISH
UID:51037@regionalniportaly.cz
DTSTAMP:20260425T040546Z
DTSTART;VALUE=DATE:20250419
DTEND;VALUE=DATE:20250420
SUMMARY:Imagine Diamonds - Největší hity Imagine Dragouns naživo
DESCRIPTION:&nbsp\;Přijďte si užít nezapomenutelný večer plný hudby a energie!&nbsp\;Kapela Imagine Diamonds Vás srdečně zve na svůj první koncert\, který se uskuteční na Velikonoční sobotu\, 19. dubna\, v legendárním Music baru Anděl v Plzni.Během večera vás čekají ty největší hity kapely Imagine Dragons\, které vás roztančí a naplní dobrou náladou. Přijďte si poslechnout písně\, které znáte a milujete\, v podání našich skvělých muzikantů.&nbsp\;Na co se můžete těšit?Výjimečnou atmosféru a energii živé hudbyHity jako Believer\, Thunder\, Radioactive a dalšíÚžasnou show plnou emocí a energie&nbsp\;Imagine Diamonds – nová tribute kapela\, která vám ukáže\, že hudba Imagine Dragons zní naživo ještě lépe!&nbsp\;Kde: Music bar Anděl\, Plzeň&nbsp\;Kdy: Sobota\, 19. dubna (čas bude upřesněn)&nbsp\;Vstupné: Bude doplněnoNenechte si ujít tento jedinečný večer! Přijďte nás podpořit a užít si skvělou hudbu s přáteli. Těšíme se na vás!Za ID zdraví&nbsp\;&nbsp\;Tomáš Balů Baloun&nbsp\;David Mucha&nbsp\;Ivo Anderle&nbsp\;Ondřej Kuncl&nbsp\;Michal Gracík
LOCATION:Plzeň
END:VEVENT
END:VCALENDAR