BEGIN:VCALENDAR
VERSION:2.0
CALSCALE:GREGORIAN
PRODID:-//MyApp//Calendar 1.0//EN
BEGIN:VEVENT
METHOD:PUBLISH
UID:51026@regionalniportaly.cz
DTSTAMP:20260424T223845Z
DTSTART;VALUE=DATE:20250315
DTEND;VALUE=DATE:20250316
SUMMARY:ECSTATIC DANCE - DJ Petr Douša
DESCRIPTION:Ecstatic Dance konečně v Plzni! Přijďte se uvolnit\, načerpat svěží energii a dobrou náladu.&nbsp\; Jde o spontánní tanec\, kde se můžeme svobodě vyjádřit a rozhýbat naše tělo i duši. Příjemné prostředí bez alkoholu\, krásná hudba z celého světa\, milá společnost podobně naladěných lidí. Vhodné pro každého\, není potřeba předem nic umět. Těšíme se na vás!&nbsp\;PRŮBĚH VEČERA16:45 Otevření prostoru\, příchod\, přivítání17:00 Úvodní kruh\, vysvětlení Ecstatic Dance17:15 Ecstatic Dance - DJ Petr Douša19:45 Závěrečné sdílení20:00 Společné posezení\, čaj a dobroty&nbsp\;PRAVIDLA ECSTATIC DANCEČistota prožitku. Tančíme bez vlivu alkoholu a drog.Bezpečný prostor. Během tance se nepořizují fotky ani videa.Hluboký prožitek. Při tanci nemluvíme\, slova nás z prožitku vytrhují.Tančíme naboso.&nbsp\;DJ PETR DOUŠAPetr miluje tanec odjakživa. Tančil na divokých freeparties v devadesátkách\, s milionem lidí na Love Parade\, v poušti na Burning Manu a v posledních letech je jeho vášní Ecstatic Dance. Prošel tříletým výcvikem Cesta Tančícího Srdce u Guye Barringtona. Ve svém setu s velmi pestrou hudbou různých žánrů vás provede vnitřní cestou\, která může být velmi uvolňující\, osvěžující\, příjemná a léčivá.
LOCATION:Plzeň
END:VEVENT
END:VCALENDAR