BEGIN:VCALENDAR
VERSION:2.0
CALSCALE:GREGORIAN
PRODID:-//MyApp//Calendar 1.0//EN
BEGIN:VEVENT
METHOD:PUBLISH
UID:50914@regionalniportaly.cz
DTSTAMP:20260424T163655Z
DTSTART;VALUE=DATE:20250315
DTEND;VALUE=DATE:20250316
SUMMARY:Martin Chodúr | Anděl Music Bar
DESCRIPTION:MARTIN CHODÚR je český zpěvák\, textař\, skladatel\, multiinstrumentalista a vítěz první Česko Slovenské Superstar 2009.Pravidelně vystupuje v České a Slovenské republice se svojí doprovodnou skupinou MACH a různými hudebními orchestry a Big Bandy pro široké spektrum posluchačů. Jeho velký hlasový rozsah zahrnující barytonovou i tenorovou polohu a lyrický i dramatický přednes mu umožňují zpívat nejrůznější hudební žánry. Kromě klarinetu aktivně hraje na saxofon\, příčnou flétnu\, klavír a kytaru.Martinova autorská tvorba vychází z pop-rocku. Dominantní jsou silné melodie naplno využívající jeho velký hlas a osobité poetické texty. Patrný je vliv umělecké tvorby 60. a 70. let a vliv filmové hudby.Písně s hudbou a texty Martina Chodúra obohatily repertoár mnoha známých českých interpretů\, například Karla Gotta (píseň Právě vchází)\, Hany Zagorové (On se vrátí\; Balada)\, Moniky Absolonové (To nejsem já)\, Daniela Hůlky (Prométheus) či operního pěvce Štefana Margity (text Jeden Bůh k americké písni One God\; Odyssea\; Lásku mít a nic víc\; Paroles Paroles).Nyní máte možnost užít si jeho vystoupení u nás v klubu a udělat si příjemný večer.&nbsp\;Budeme se těšit&nbsp\;
LOCATION:Plzeň
END:VEVENT
END:VCALENDAR