BEGIN:VCALENDAR
VERSION:2.0
CALSCALE:GREGORIAN
PRODID:-//MyApp//Calendar 1.0//EN
BEGIN:VEVENT
METHOD:PUBLISH
UID:50689@regionalniportaly.cz
DTSTAMP:20260424T111304Z
DTSTART;VALUE=DATE:20250306
DTEND;VALUE=DATE:20250307
SUMMARY:Ghost of You + Sleep Twitch
DESCRIPTION:Zveme vás na společný koncert Ghost of You a Sleep Twitch\, který se uskuteční 6.3.2025 v plzeňském prostoru&nbsp\;New MōōVEMENT.&nbsp\;Bohužel z důvodu nemoci nemůžou původní Midnight Swimmers vystoupit. Děkujeme za pochopení. Vstupné je možné vrátit.&nbsp\;&nbsp\;Ghost of YouOd debutu Glacier &amp\; the City (2015) brněnští Ghost of You neúnavně koncertovali. Svou nevyzpytatelnou smršť kytar\, basy a tanečních beatů představili ve všech koutech Česka\, ale také na Slovensku\, v Rakousku\, Nizozemsku\, Maďarsku\, Německu a Velké Británii.Druhé album Black Yoga (2018) představilo experimentálnější polohu kapely i rozsah a autenticitu zpěvu Toma Novohradského. Svěžím zvukem zapůsobili na kritiku i veřejnost – kapela vystoupila na předních evropských festivalech jako Sziget\, Donauinselfest\, Pohoda\, Waves Vienna\, Eurosonic Nooderslaag nebo Colours of Ostrava. S deskou odehrála vyprodané koncerty v brněnských a pražských klubech (Fléda\, Kabinet Múz\, Café v Lese).Během pandemie přichází do sestavy bubeník Antonín Kropáček a kapela pracuje na novém materiálu. Čerstvá třetí deska Eyes Shut vyšla v listopadu 2024 u Indies Scope a Ghost of You se s ní vrací vyzrálejší a semknutější než kdy dřív.Sleep Twitch Alternativně rocková kapela z Prahy\, která vznikla v roce 2020. Trio tvoří kytarista a zpěvák Wlado\, baskytarista Ondřej Koláček a bubeník Tomáš Blažek (ex-Genuine Jacks\, Wild Tides). Kapela se vyznačuje energickým zvukem\, který kombinuje melodické linky s přímočarou rytmikou.Během několika let své existence vydali dvě EP – Alpha Apex (2021) a Beta Brut (2022). Jejich hudba zazněla nejen na klubových koncertech a festivalech\, ale také jako support pro kapely Algiers nebo INVSN Dennise Lyxzéna.Nejnovějším singlem "b o y"\, nahraným v pražském studiu Parley Sound\, kapela potvrzuje svou kreativní energii. K písni vznikl i videoklip produkovaný BigPipiLife Production. Sleep Twitch dál pokračují v koncertování a dle recenzí mají potenciál stát se klubovou senzací.
LOCATION:Plzeň
END:VEVENT
END:VCALENDAR