BEGIN:VCALENDAR
VERSION:2.0
CALSCALE:GREGORIAN
PRODID:-//MyApp//Calendar 1.0//EN
BEGIN:VEVENT
METHOD:PUBLISH
UID:50428@regionalniportaly.cz
DTSTAMP:20260424T211851Z
DTSTART;VALUE=DATE:20250516
DTEND;VALUE=DATE:20250517
SUMMARY:DELORAINE + JENLISISTERS (BE)\, PLZEŇ - ŠEŘÍKOVKA
DESCRIPTION:Fantasy paganfolková skupina Deloraine zahraje velký koncert v Plzni.&nbsp\;Nové písně na pódiu\, nová epická&nbsp\;show&nbsp\;Deloraine na Ostara Tour 2025.&nbsp\;Dvouhodinový divoký pohanský koncert\, rituály\, krásné tanečnice\, rohatá severská čarodějnice\, vědma\, Odin a keltské božstva. Bude se tančit a bude se zpívat. Užijete si mocné hlasy\, zvuk mnoha etnických a exotických nástrojů a show ve výjimečných kostýmech.Jako speciální host&nbsp\;vystoupí talentované belgické&nbsp\;duo JenliSisters. Unikátní hudební projekt\, který překračuje hranice mezi různými hudebními styly jako je klasická hudba\, world music\, keltská hudba a elektro.V písních se kapela Deloraine zabývají&nbsp\;tématy z fantasy literatury\, mnoho písní je ze světa světa Zaklínače (Zaklínač\, Yennefer\, Nilfgaard\, Srdce z kamene) mýtů a ság z dávných keltských\, slovanských a severských pohanských dob\, jako třeba Ragnarok\, Havranů pán\, Arkona\, Ostara\, Lughnasad a Sabat a zbrusu nové psíáně z chystaného alba Dryáda.VSTUPENKY:&nbsp\;450\,- Kč Smsticket do 28. 2. 2025&nbsp\;- Sleva Morany550\,- Kč Smsticket&nbsp\;do dne akce599\,- Kč na místěHARMONOGRAM:18:00 Doors19:00 Jenlisisters20:15 Deloraine22:30 Meet and Greet s Deloraine u merche&nbsp\;
LOCATION:Plzeň
END:VEVENT
END:VCALENDAR