BEGIN:VCALENDAR
VERSION:2.0
CALSCALE:GREGORIAN
PRODID:-//MyApp//Calendar 1.0//EN
BEGIN:VEVENT
METHOD:PUBLISH
UID:50397@regionalniportaly.cz
DTSTAMP:20260424T162900Z
DTSTART;VALUE=DATE:20250221
DTEND;VALUE=DATE:20250222
SUMMARY:POPs ★ Buena Vista Club - Plzeň (Best Of 80' & 90')
DESCRIPTION:Přijď si užít super mejdan a koncert skvělé a energické kapely POPs\, kde zazní písně světového popu od interpretů jako Michael Jackson\, Phil Collins\, George Michael\, Depeche Mode\, Backstreet Boys a mnoho dalších z let 80' a 90'.Program:20:00 – 21:00 # opendoor21:00 – 23:30 # POPs23:30 – ??:?? # afterparty w/ DJ At WorkVstupenky také na místě za 300 Kč.Dále v prodeji vstupenky VIP a SUPERIOR - balkón\, sezení\, vlastní bar apod. - více informací o akci a odkaz na tento předprodej naleznete zde.&nbsp\;
LOCATION:Plzeň
END:VEVENT
END:VCALENDAR