BEGIN:VCALENDAR
VERSION:2.0
CALSCALE:GREGORIAN
PRODID:-//MyApp//Calendar 1.0//EN
BEGIN:VEVENT
METHOD:PUBLISH
UID:50331@regionalniportaly.cz
DTSTAMP:20260424T151534Z
DTSTART;VALUE=DATE:20250227
DTEND;VALUE=DATE:20250228
SUMMARY:Kaczi | Anděl Music Bar
DESCRIPTION:Beskydská písničkářka Kaczi je umělkyně a multiinstrumentalistka balancující mezi popem\, folkem a šansonem.Zkušenosti i na ulicích evropských měst nebo v Japonsku. Pověstná jsou mimo jiné její vystoupení na Lysé hoře.Album Nahá (2021) ji vynesla nominaci na Cenu Anděl v kategorii Zpěvačka roku. V roce 2024 vydala ve spolupráci s Českým rozhlasem album Kněhyně (2024)\, se kterým vyrazila na turné po České republice a pár městech v USA.Teď máte možnost užít si její vystoupení u nás v klubu.
LOCATION:Plzeň
END:VEVENT
END:VCALENDAR