BEGIN:VCALENDAR
VERSION:2.0
CALSCALE:GREGORIAN
PRODID:-//MyApp//Calendar 1.0//EN
BEGIN:VEVENT
METHOD:PUBLISH
UID:50327@regionalniportaly.cz
DTSTAMP:20260424T151707Z
DTSTART;VALUE=DATE:20250222
DTEND;VALUE=DATE:20250223
SUMMARY:Olga Lounová | Anděl Music Bar
DESCRIPTION:Zpěvačka\, skladatelka a herečka Olga Lounová a její jedinečný koncert.Nenechte si ujít nezapomenutelné hity: Jsem optimista\, K výškám\, Láska v housce a spoustu dalších naživo...V Anděl music baru už v únoru.
LOCATION:Plzeň
END:VEVENT
END:VCALENDAR