BEGIN:VCALENDAR
VERSION:2.0
CALSCALE:GREGORIAN
PRODID:-//MyApp//Calendar 1.0//EN
BEGIN:VEVENT
METHOD:PUBLISH
UID:50214@regionalniportaly.cz
DTSTAMP:20260424T164729Z
DTSTART;VALUE=DATE:20250207
DTEND;VALUE=DATE:20250208
SUMMARY:Pulse Techno on Tour
DESCRIPTION:Techno ve své ryzí podobě. Od detroitských kořenů\, přes britský zvuk až po současné trendy\, které zůstávají věrné klasickému zvuku. Emoce\, síla\, energie – to všechno tě čeká na akci Pulse Techno on Tour. Crew\, která má svou domovskou základnu v pražském klubu Pulse 22\, se představí 7. 2. 2025 v plzeňském klubu Watt.Předprodej: 150 CZKNa místě do půlnoci: 200 CZKNa místě po půlnoci: 250 CZKNečekejte žádné TikTok Techno\, ale underground\, Techno v čisté formě.
LOCATION:Plzeň
END:VEVENT
END:VCALENDAR