BEGIN:VCALENDAR
VERSION:2.0
CALSCALE:GREGORIAN
PRODID:-//MyApp//Calendar 1.0//EN
BEGIN:VEVENT
METHOD:PUBLISH
UID:50156@regionalniportaly.cz
DTSTAMP:20260424T174336Z
DTSTART;VALUE=DATE:20250329
DTEND;VALUE=DATE:20250330
SUMMARY:Cavalier | Anděl Music Bar
DESCRIPTION:Cavalier je český raper.&nbsp\;Svůj první mixtape Brácha s bráchou vol. 1 vydal v roce 2013 společně se svým bratrem Janem\, který celé album produkoval.Mixtape obsahuje 12 skladeb. Poprvé se proslavil díky singlům „Těžký Váhy“ a „Nemůžu si dovolit“\, na kterých spolupracoval společně s Benem Cristovaem.Své debutové album Jeden z davu vydal v roce 2017 prostřednictvím vydavatelství ChampionShip Music. Album obsahuje 20 skladeb.Druhé album Sheep\, obsahující 7 singlů\, vydal v roce 2019. Zatím poslední studiové album\, nesoucí název Jakub\, vydal v roce 2020. V roce 2022 vydal EP pod názvem Konec prázdnin.Nyní máte možnost užít si jeho show u nás v klubu.&nbsp\;
LOCATION:Plzeň
END:VEVENT
END:VCALENDAR