BEGIN:VCALENDAR
VERSION:2.0
CALSCALE:GREGORIAN
PRODID:-//MyApp//Calendar 1.0//EN
BEGIN:VEVENT
METHOD:PUBLISH
UID:50150@regionalniportaly.cz
DTSTAMP:20260425T040829Z
DTSTART;VALUE=DATE:20250314
DTEND;VALUE=DATE:20250315
SUMMARY:The Bugles / Anděl Music Bar
DESCRIPTION:Skupina The BUGLES – Beatles Revival vznikla v roce 2000 v Praze. Díky vysoce profesionálnímu přístupu se stala jednou z nejžádanějších revivalových skupin v Čechách i zahraničí. Zakládá si na přesném a autentickém pojetí písní The Beatles. Všechny skladby jsou hrány naživo\, v původních tóninách a na originální nástroje a aparatury. Velkou výhodou kapely je značná vizuální a hlasová podobnost se slavnou čtyřkou. Její energická pódiová show je umocněna originálními kostýmy a účesy. Levoruký baskytarista je samozřejmostí.Kapela vystoupila na stovkách akcí nejen ze sféry firemní klientely\, ale i na mnoha festivalech\, městských slavnostech a plesech. Mezi nejvýznamnější koncerty patří Galavečer k výročí založení TV Nova za účasti prezidenta ČR nebo dobročinný koncert pro nadaci Rakovina věc veřejná v Obecním domě v Praze.Členové kapely prošli důkladným vzděláním na poli vážné hudby\, a tak přistupují k nastudování písní The Beatles se stejnou zodpovědností a pečlivostí\, jako kdyby šlo o skladby symfonické nebo komorní hudby. Každý detail je velmi důležitý a v celku dotvoří dokonalou iluzi originálu. Kapela o tom již přesvědčila nejednoho zarytého vyznavače The Beatles.■ MILAN BOUŠEK (John Lennon) - zpěv\, doprovodná kytara\, harmonika\, piano■ JAN MIZERA (Paul McCartney) - zpěv\, baskytara\, piano■ MAREK BOUŠEK (George Harrison) - zpěv\, sólová kytara■ MICHAL BOUŠEK (Ringo Starr) - zpěv\, bicí\, perkuse
LOCATION:Plzeň
END:VEVENT
END:VCALENDAR