BEGIN:VCALENDAR
VERSION:2.0
CALSCALE:GREGORIAN
PRODID:-//MyApp//Calendar 1.0//EN
BEGIN:VEVENT
METHOD:PUBLISH
UID:50148@regionalniportaly.cz
DTSTAMP:20260424T134836Z
DTSTART;VALUE=DATE:20250220
DTEND;VALUE=DATE:20250221
SUMMARY:Andrea De Luca | Anděl Music Bar
DESCRIPTION:ANDREA DE LUCA je neuvěřitelný italský bluesový talent. Dokonale se spojuje s publikem a bere je na hudební cestu. Poprvé u nás !!ANDREA DE LUCA je neuvěřitelný italský bluesový talent. Dokonale se spojuje s publikem a bere je na hudební cestu. Poprvé u nás !!
LOCATION:Plzeň
END:VEVENT
END:VCALENDAR