BEGIN:VCALENDAR
VERSION:2.0
CALSCALE:GREGORIAN
PRODID:-//MyApp//Calendar 1.0//EN
BEGIN:VEVENT
METHOD:PUBLISH
UID:50147@regionalniportaly.cz
DTSTAMP:20260424T111334Z
DTSTART;VALUE=DATE:20250308
DTEND;VALUE=DATE:20250309
SUMMARY:Divá Bára / Anděl Music Bar
DESCRIPTION:Čistý rock. Nic víc\, ale zatraceně nic míň!Divá Bára je živelná rocková kapela složená ze zkušených a ostřílených muzikantů\, kteří se dali dohromady\, aby hráli to\, co ve skutečnosti vždycky všichni chtěli – přímočarý rock n roll na komoru.Bývají čím dál častěji přirovnávání k české obdobě AC/DC a to je rozhodně neuráží&nbsp\;&nbsp\;
LOCATION:Plzeň
END:VEVENT
END:VCALENDAR