BEGIN:VCALENDAR
VERSION:2.0
CALSCALE:GREGORIAN
PRODID:-//MyApp//Calendar 1.0//EN
BEGIN:VEVENT
METHOD:PUBLISH
UID:50146@regionalniportaly.cz
DTSTAMP:20260424T111354Z
DTSTART;VALUE=DATE:20250228
DTEND;VALUE=DATE:20250301
SUMMARY:Ozzy Osbourne Revival / Anděl Music Bar
DESCRIPTION:Revival kultovního zpěváka Ozzyho Osbourna\,který vznikl spojením zpěváka charakteristického hlasu – Lubozze Ryshmana a hudebníků\, progresívního dravého kytaristy Miroslava „Sanctus“ Saidla a osvědčené dusající pralesní rytmiky – Kobra/Indy.Zazní hity Ozzyho z jeho sólových alb ale i nejslavnější písně z počátků Black Sabbath.Temné\, mystické\, ale i přímočaře nadupané melodické písně si našly vždy mnoho vděčných fanoušků.Vyzkoušejte i Vy!
LOCATION:Plzeň
END:VEVENT
END:VCALENDAR