BEGIN:VCALENDAR
VERSION:2.0
CALSCALE:GREGORIAN
PRODID:-//MyApp//Calendar 1.0//EN
BEGIN:VEVENT
METHOD:PUBLISH
UID:50136@regionalniportaly.cz
DTSTAMP:20260424T235733Z
DTSTART;VALUE=DATE:20251012
DTEND;VALUE=DATE:20251013
SUMMARY:Světová hudba pro 4 saxofony a zpěv
DESCRIPTION:Pojďte si užít zbrusu nový program pro 4 saxofony a zpěv v dramaturgicky pestrém koncertu od klasiky\, přes swing a jazz až k moderní hudbě\, včetně aranží písniček Beatles&nbsp\;do vytápěného nádherného funcionalistického sálu plzeňské Betlémské kaple&nbsp\;&nbsp\;Saxofonové kvarteto FOUR + ONEPetr RANDÍK – soprán saxofon\, Zdeněk ZADRAŽIL – alt saxofon\,Tomáš PUDIVÍTR – tenor saxofon\, Vít DĚDIČ – baryton saxofona Andrea KAŇKOVÁ - zpěvPROGRAM:A. VIVALDI -&nbsp\;Bouře ze Čtyř ročních obdobíA. DVOŘÁK - Largo z NovosvětskéE. MORRICONE - Tenkrát na západěJ. KANDER - New York\, New YorkL. COHEN - HallelujahJ. JEŽEK - Bugatti StepG. GERSHWIN - I got rhytmBEATLES - Eleanor RigbyBEATLES - IMAGINEBEATLES - Can´t buy me loveQUEEN - Crazy Little Think Called LoveB. STREISAND - MEMORYW. HOUSTON - I will always love youB. STREISAND - Tell HimB. LISTON - BrazilB. Mc FERRIN - Don´t Worry Be HappyF. SCHUBERT - AVE MARIAzměna programu a účinkujících vyhrazena\, délka cca 65 minut
LOCATION:Plzeň
END:VEVENT
END:VCALENDAR