BEGIN:VCALENDAR
VERSION:2.0
CALSCALE:GREGORIAN
PRODID:-//MyApp//Calendar 1.0//EN
BEGIN:VEVENT
METHOD:PUBLISH
UID:50128@regionalniportaly.cz
DTSTAMP:20260424T151619Z
DTSTART;VALUE=DATE:20250214
DTEND;VALUE=DATE:20250215
SUMMARY:THE STYLISTS feat. Tonya Graves / Anděl Music Bar
DESCRIPTION:Dynamický electro pop s prvky disca a funku\, s pulzujícími syntezátory a úchvatným zpěvem. Jakoby se na jednom pódiu potkali Kraftwerk s Donnou Summer.The Stylists založili Moimir Papalescu (The Nihilists\, Magnetik\, Die alten Maschinen) skladatel\, hráč na klávesové nástroje a „specialista“ na syntezátory a zpěvačka (ale také herečka) Tonya Graves (Liquid Harmony\, Monkey Business)\, dále pak jsou s nimi na palubě multiinstrumentalista a hráč na dechové nástroje\, vynikající jazzman Petr Venkrbec (The Nihilists\, Mr. Lovo\; dříve také Vltava\, Psí vojáci\, Krausberry) a bubeník Miki P. (JAF34\, Papalescu2). Věrni svému názvu The Stylists přinášejí na pódia nadupanou taneční hudbu. Je to jízda\, kdy odhodíte všechny chmury a zábrany a budete se skvěle bavit.
LOCATION:Plzeň
END:VEVENT
END:VCALENDAR