BEGIN:VCALENDAR
VERSION:2.0
CALSCALE:GREGORIAN
PRODID:-//MyApp//Calendar 1.0//EN
BEGIN:VEVENT
METHOD:PUBLISH
UID:50094@regionalniportaly.cz
DTSTAMP:20260424T185621Z
DTSTART;VALUE=DATE:20250211
DTEND;VALUE=DATE:20250212
SUMMARY:DEDE PRIEST & JOHNNY CLARK´S OUTLAWS // Anděl Music Bar
DESCRIPTION:DEDE PRIEST &amp\; JOHNNY CLARK ' S OUTLAWS si vybudovali mezinárodní jméno během let neúnavného koncertování a vytrvalého vydávání původní hudby. Přes žánry vyvinuli jedinečný a rozpoznatelný zvuk\, který mísí rock\, soul\, blues\, gospel\, folk a country. Jejich energická vystoupení přinášejí nabitou atmosféru a publikum je dojato jejich upřímnou a přímočarou interakcí.„Pokud jste příznivcem energického rocku\, blues\, indie rocku\, nádechu funku a country v čele s texaskou ženou\, která má fascinující a strašidelný hlas\, mám pro vás kapelu...Tohle je opravdu zápas made in music heaven ...Jejich písně voní originalitou jak v textech\, tak v hudebním útoku...Tahle kapela je prostě úžasná... Energie\, kterou dodávají s pouhými čtyřmi muzikanty\, přesahuje to\, co lze slovy popsat...“ BLUES BLAST MAGAZINE\, USADEDE PRIEST: Zpěv\, KYTARA\, HOUSLEJOHNNY CLARK: Zpěv\, KYTARARAY OOSTENRIJK: BASSLEON TOONEN: BUBNY
LOCATION:Plzeň
END:VEVENT
END:VCALENDAR