BEGIN:VCALENDAR
VERSION:2.0
CALSCALE:GREGORIAN
PRODID:-//MyApp//Calendar 1.0//EN
BEGIN:VEVENT
METHOD:PUBLISH
UID:50093@regionalniportaly.cz
DTSTAMP:20260424T162536Z
DTSTART;VALUE=DATE:20250307
DTEND;VALUE=DATE:20250308
SUMMARY:Pavel Čadek a Úcellová skupina- Jarní tah ( smyčcem ) 2025
DESCRIPTION:Pavel Čadek je mladý český písničkář doprovázející se na violoncello - je tak jediný svého druhu. Dostal se do povědomí posluchačů jako předskokan Pokáče\, Xindla X\, Petra Bende\, Báry Polákové\, Jelena a dalších...byl také hostem v 7 pádech Honzy Dědka a jeho třetí album Stepní vlk získalo nejužší nominaci na Anděla v kategorii Folk. Mezi jeho nejznámější písně patří 30 (duet s Pokáčem)\, Prsa (duet s Michalem Horákem od Pana Fenka)\, Nestíhám a Utekla mi s ajťákem. Ač se jedná bez výjimky o humorné písně\, velkou část publika si Pavel Čadek získává svou vážnější či lyrickou tvorbou\, kterou při vystoupeních vkusně střídá s humorem.Po úspěšné JáSám tour na podzim 2024\, kde se představil divákům jako sólo písničkář\, vyráží na jaře 2025 do některých měst opět se svojí Úcellovou skupinou\, kterou tvoří Ondřej Zámečník (akordeon) a Adam Sikora (bicí\, perkuse).
LOCATION:Plzeň
END:VEVENT
END:VCALENDAR